BEGIN:VCALENDAR
VERSION:2.0
PRODID:-//Lake County General Health Department - ECPv6.15.20//NONSGML v1.0//EN
CALSCALE:GREGORIAN
METHOD:PUBLISH
X-WR-CALNAME:Lake County General Health Department
X-ORIGINAL-URL:https://www.lcghd.org
X-WR-CALDESC:Events for Lake County General Health Department
REFRESH-INTERVAL;VALUE=DURATION:PT1H
X-Robots-Tag:noindex
X-PUBLISHED-TTL:PT1H
BEGIN:VTIMEZONE
TZID:UTC
BEGIN:STANDARD
TZOFFSETFROM:+0000
TZOFFSETTO:+0000
TZNAME:UTC
DTSTART:20240101T000000
END:STANDARD
END:VTIMEZONE
BEGIN:VEVENT
DTSTART;VALUE=DATE:20251128
DTEND;VALUE=DATE:20251129
DTSTAMP:20260423T044124
CREATED:20250212T143102Z
LAST-MODIFIED:20250212T143102Z
UID:10000189-1764288000-1764374399@www.lcghd.org
SUMMARY:CLOSED Holiday
DESCRIPTION:
URL:https://www.lcghd.org/event/closed-holiday/
LOCATION:Ohio
END:VEVENT
BEGIN:VEVENT
DTSTART;VALUE=DATE:20251127
DTEND;VALUE=DATE:20251128
DTSTAMP:20260423T044124
CREATED:20250207T161327Z
LAST-MODIFIED:20250212T142921Z
UID:10000184-1764201600-1764287999@www.lcghd.org
SUMMARY:CLOSED for Thanksgiving
DESCRIPTION:
URL:https://www.lcghd.org/event/closed-for-thanksgiving-2/
LOCATION:Ohio
END:VEVENT
BEGIN:VEVENT
DTSTART;TZID=UTC:20251117T150000
DTEND;TZID=UTC:20251117T160000
DTSTAMP:20260423T044124
CREATED:20251022T161058Z
LAST-MODIFIED:20251022T161058Z
UID:10000152-1763391600-1763395200@www.lcghd.org
SUMMARY:Board of Health Meeting
DESCRIPTION:
URL:https://www.lcghd.org/event/board-of-health-meeting-2/2025-11-17/
LOCATION:Lake County General Health District\, 5966 Heisley Road\, Mentor\, Ohio\, 44060
CATEGORIES:Board of Health Meetings
END:VEVENT
BEGIN:VEVENT
DTSTART;TZID=UTC:20251117T143000
DTEND;TZID=UTC:20251117T150000
DTSTAMP:20260423T044124
CREATED:20251022T213304Z
LAST-MODIFIED:20251022T213304Z
UID:10000205-1763389800-1763391600@www.lcghd.org
SUMMARY:Finance Committee Meeting
DESCRIPTION:
URL:https://www.lcghd.org/event/finance-committee-meeting/
LOCATION:Lake County General Health District\, 5966 Heisley Road\, Mentor\, Ohio\, 44060
CATEGORIES:Board of Health Meetings
END:VEVENT
BEGIN:VEVENT
DTSTART;VALUE=DATE:20251111
DTEND;VALUE=DATE:20251112
DTSTAMP:20260423T044124
CREATED:20250207T161248Z
LAST-MODIFIED:20250207T161248Z
UID:10000183-1762819200-1762905599@www.lcghd.org
SUMMARY:CLOSED for Veterans Day
DESCRIPTION:
URL:https://www.lcghd.org/event/closed-for-veterans-day/
LOCATION:Ohio
END:VEVENT
END:VCALENDAR