BEGIN:VCALENDAR
VERSION:2.0
PRODID:-//Lake County General Health Department - ECPv6.15.20//NONSGML v1.0//EN
CALSCALE:GREGORIAN
METHOD:PUBLISH
X-ORIGINAL-URL:https://www.lcghd.org
X-WR-CALDESC:Events for Lake County General Health Department
REFRESH-INTERVAL;VALUE=DURATION:PT1H
X-Robots-Tag:noindex
X-PUBLISHED-TTL:PT1H
BEGIN:VTIMEZONE
TZID:UTC
BEGIN:STANDARD
TZOFFSETFROM:+0000
TZOFFSETTO:+0000
TZNAME:UTC
DTSTART:20250101T000000
END:STANDARD
END:VTIMEZONE
BEGIN:VEVENT
DTSTART;TZID=UTC:20260615T150000
DTEND;TZID=UTC:20260615T160000
DTSTAMP:20260420T192105
CREATED:20260209T144119Z
LAST-MODIFIED:20260317T160828Z
UID:10000226-1781535600-1781539200@www.lcghd.org
SUMMARY:Board of Health Meeting
DESCRIPTION:
URL:https://www.lcghd.org/event/board-of-health-meeting-4/2026-06-15/
LOCATION:Ohio
CATEGORIES:Board of Health Meetings
END:VEVENT
END:VCALENDAR